Workbook

Sheet Director de DGP
C1: SECRETARÍA DE FINANZAS Y ADMINISTRACIÓN DIRECCIÓN DE RECURSOS HUMANOS Y SERVICIO PROFESIONAL DE CARRERA DESCRIPCIÓN Y PERFIL DE PUESTO
A3: Identificación:
A4: Puesto funcional: | C4: Secretario (a) de Infraestructura Sostenible | F4: Fecha: | G4: 02/02/2024
A5: Puesto nominal: | C5: Secretario de Infraestructura Sostenible
A6: Secretaría: | C6: Secretaría de Infraestructura Sostenible
A7: Dirección:
A8: Área: | C8: Secretaría de Infraestructura Sostenible
A9: Organización:
A10: Puesto al que le reporta: | C10: Presidente Municipal
A11: Puestos que le reportan: | C11: Director de Proyectos, Director para la Gestión de Financiamiento Sostenible, Director de Planeación de Obra y Contratación, Director de Seguimiento de Obras, Director de Gestión de Pavimentos, Director (a) de Enlace Municipal.
A12: Objetivo General del puesto: Representa la finalidad o razón sustantiva del puesto. Da cuenta del por qué ese puesto existe y cuál es el resultado o impacto que aporta para la consecución de la misión y objetivos institucionales. Debe ser específico para el puesto, medible, alcanzable, realista y congruente con las funciones y el perfil del puesto.
A13: Implementar la misión del municipio, atendiendo la visión de esta administración y sus valores, para lograr una obra pública sostenible a favor de la ciudadanía de Monterrey
A14: Valor que aporta al puesto que reporta: | C14: Muy Alto | D14: Tipo de Puesto | F14: De libre designación
A15: Objetivos Particulares del puesto: Se recomienda enlistarlos por orden de importancia o cumplimiento, e incluir el porcentaje que representa en el puesto (NOTA: Un objetivo general se integra por objetivos particulares, y cada objetivo particular lo integran 2 o 3 funciones)
A16: 1 | B16: Planear, gestionar, contratar y dirigir las obras públicas que se realicen en el municipio con un enfoque de sostenibilidad, en el marco de un gobierno eficaz y eficiente que atienda las demandas de la población del municipio | G16: 1
A17: Funciones y Responsabilidades Clave: DESCRIPCION DE LA FUNCION: ¿Qué hace? ¿Para qué lo hace? Cada función integra un conjunto de actividades. VERBO DE ACCIÓN+COMPLEMENTO+RESULTADO
A18: 1 | B18: 1. Dirigir la dependencia de acuerdo a la normatividad y reglas de operación vigentes
A19: 2 | B19: 2. Establecer los mecanismos para la atención de las solicitudes ciudadanas, así como para la detección de las principales necesidades de la comunidad
A20: 3 | B20: 3. Conducir los programas relativos a las construcción de obras públicas
A21: 4 | B21: 4. Coordinarse con las dependencias de la administración pública municipal, estatal y federal para la elaboración de proyectos, programas y acción en materia de obras púbicas
A22: 5 | B22: 5. Autorizar los programas anuales de obras de acuerdo a lo establecido en el Plan Municipal de Desarrollo y la normatividad vigente
A24: Relación Institucional
A25: Con qué artículo(s) y fracción(es) del Reglamento de la Administración Pública Municipal está relacionado el puesto: | D25: Artículos 89 al 97.
A26: Con qué objetivo(s( y meta(s) del Plan Municipal de Desarrollo se relaciona el puesto: | D26: 3.7 Ciudad Sostenible
A28: Perfil del Puesto:
A29: Especificación | C29: Características
A30: Escolaridad | C30: Licenciatura en Ingenieria Civil, Arquitectura o afín.
A31: Experiencia | C31: 5 años
A32: Conocimientos: | C32: Nivel de Dominio
C33: Avanzado | D33: Normatividad laboral aplicable (Leyes, reglamentos, Municipales, Estatales y Federales)
C35: Avanzado | D35: Conocimiento de estrategias para el desarrollo de la ciudad.
C36: Avanzado | D36: Conocimientos de reglamentación, planeación y consulta ciudadana mediante programas, acciones para un ambiente sano de calidad de los ciudadanos.
A38: Habilidades
A39: Directivas | C39: Avanzado | D39: Toma de decisiones
C40: Avanzado | D40: Capacidad de planificar y de organización
C41: Avanzado | D41: Liderazgo de grupos
A42: Administrativas | C42: Avanzado | D42: Control Administrativo
C43: Avanzado | D43: Planeación Funcional
C44: Avanzado | D44: Aplicación de las disposiciones normativas
A45: Desempeño | C45: Avanzado | D45: Claridad de objetivos, planes y metas
C46: Avanzado | D46: Dinamismo y respuesta rápida
C47: Avanzado | D47: Orientación a resultados
A48: Cognitivas y de Eficacia Personal | C48: Avanzado | D48: Organización
C49: Avanzado | D49: Autocontrol / Manejo de estrés
C50: Avanzado | D50: Conocimiento normativo y jurídico
A51: Desarrollo de Personas | C51: Avanzado | D51: Consciencia organizativa
C52: Avanzado | D52: Construcción de relaciones
C53: Avanzado | D53: Persuación e influencia
A54: Tecnológicas | C54: Intermedio | D54: Paquetes de Oficina (word, Excel y Power Point)
C55: Intermedio | D55: Plataformas colaborativas (Slideshare, Google Drive, Icoud, Dropbox, DkyDrive, Teams)
C56: Avanzado | D56: AutoCad
A58: Aprobaciones:
A59: Secretaría
A60: ELABORÓ: | D60: REVISÓ: | E60: AUTORIZÓ:
A61: LIC.ALICIA PICASSO GONZÁLEZ | D61: LIC.ALICIA PICASSO GONZÁLEZ | E61: M. I. GUILLERMO HERNÁNDEZ RAMÍREZ
A62: DIRECTOR(A) DE ENLACE | D62: DIRECTOR(A) DE ENLACE | E62: SECRETARIA DE INFRAESTRUCTURA SOSTENIBLE
A63: Dirección de Recursos Humanos
A64: REVISÓ: | D64: AUTORIZÓ: | E64: VIGENCIA:
E65: 44810
A66: COORDINADOR DE RECLUTAMIENTO Y SELECCIÓN | D66: DIRECTOR DE RECURSOS HUMANOS | E66: FECHA

Sheet BD
B2: NO MODIFICAR ESTA HOJA
B4: Formato
B5: DESCRIPCIÓN Y PERFIL DE PUESTO
BD8: Competencias y Habilidades
L9: Objetivos Particulares del puesto: | V9: Funciones y Responsabilidades Clave: | BD9: Directivas | BJ9: Administrativas | BP9: Desempeño | BV9: Cognitivas y de Eficacia Personal | CB9: Desarrollo de Personas | CH9: Tecnológicas
A10: No. | B10: Puesto funcional: | C10: Puesto nominal: | D10: Secretaría: | E10: Dirección: | F10: Área: | G10: Puesto al que le reporta: | H10: Puestos que le reportan: | I10: Objetivo General del puesto: | J10: Valor que aporta al puesto que reporta: | K10: Tipo de Puesto | L10: 1 | M10: % | N10: 2 | O10: % | P10: 3 | Q10: % | R10: 4 | S10: % | T10: 5 | U10: % | V10: 1 | W10: 2 | X10: 3 | Y10: 4 | Z10: 5 | AA10: 6 | AB10: 7 | AC10: 8 | AD10: 9 | AE10: 10 | AF10: 11 | AG10: 12 | AH10: Escolaridad | AI10: Experiencia | AJ10: 1 | AK10: N. Dominio | AL10: 2 | AM10: N. Dominio | AN10: 3 | AO10: N. Dominio | AP10: 4 | AQ10: N. Dominio | AR10: 5 | AS10: N. Dominio | AT10: 6 | AU10: N. Dominio | AV10: 7 | AW10: N. Dominio | AX10: 8 | AY10: N. Dominio | AZ10: 9 | BA10: N. Dominio | BB10: 10 | BC10: N. Dominio | BD10: 1 | BE10: N. Dominio | BF10: 2 | BG10: N. Dominio | BH10: 3 | BI10: N. Dominio | BJ10: 1 | BK10: N. Dominio | BL10: 2 | BM10: N. Dominio | BN10: 3 | BO10: N. Dominio | BP10: 1 | BQ10: N. Dominio | BR10: 2 | BS10: N. Dominio | BT10: 3 | BU10: N. Dominio | BV10: 1 | BW10: N. Dominio | BX10: 2 | BY10: N. Dominio | BZ10: 3 | CA10: N. Dominio | CB10: 1 | CC10: N. Dominio | CD10: 2 | CE10: N. Dominio | CF10: 3 | CG10: N. Dominio | CH10: 1 | CI10: N. Dominio | CJ10: 2 | CK10: N. Dominio | CL10: 3 | CM10: N. Dominio
B12: ='Director de DGP'!C4 -> Secretario (a) de Infraestructura Sostenible | C12: ='Director de DGP'!C5 -> Secretario de Infraestructura Sostenible | D12: ='Director de DGP'!C6 -> Secretaría de Infraestructura Sostenible | E12: ='Director de DGP'!C7 -> 0 | F12: ='Director de DGP'!C8 -> Secretaría de Infraestructura Sostenible | G12: ='Director de DGP'!C10 -> Presidente Municipal | H12: ='Director de DGP'!C11 -> Director de Proyectos, Director para la Gestión de Financiamiento Sostenible, Director de Planeación de Obra y Contratación, Director de Seguimiento de Obras, Director de Gestión de Pavimentos, Director (a) de Enlace Municipal. | I12: ='Director de DGP'!A13 -> Implementar la misión del municipio, atendiendo la visión de esta administración y sus valores, para lograr una obra pública sostenible a favor de la ciudadanía de Monterrey | J12: ='Director de DGP'!C14 -> Muy Alto | K12: ='Director de DGP'!F14 -> De libre designación | L12: ='Director de DGP'!B16 -> Planear, gestionar, contratar y dirigir las obras públicas que se realicen en el municipio con un enfoque de sostenibilidad, en el marco de un gobierno eficaz y eficiente que atienda las demandas de la población del municipio | M12: ='Director de DGP'!G16 -> 1 | N12: ='Director de DGP'!#REF! -> #REF! | O12: ='Director de DGP'!#REF! -> #REF! | P12: ='Director de DGP'!#REF! -> #REF! | Q12: ='Director de DGP'!#REF! -> #REF! | R12: ='Director de DGP'!#REF! -> #REF! | S12: ='Director de DGP'!#REF! -> #REF! | T12: ='Director de DGP'!#REF! -> #REF! | U12: ='Director de DGP'!#REF! -> #REF! | V12: ='Director de DGP'!B18 -> 1. Dirigir la dependencia de acuerdo a la normatividad y reglas de operación vigentes | W12: ='Director de DGP'!B19 -> 2. Establecer los mecanismos para la atención de las solicitudes ciudadanas, así como para la detección de las principales necesidades de la comunidad | X12: ='Director de DGP'!B20 -> 3. Conducir los programas relativos a las construcción de obras públicas | Y12: ='Director de DGP'!B21 -> 4. Coordinarse con las dependencias de la administración pública municipal, estatal y federal para la elaboración de proyectos, programas y acción en materia de obras púbicas | Z12: ='Director de DGP'!B22 -> 5. Autorizar los programas anuales de obras de acuerdo a lo establecido en el Plan Municipal de Desarrollo y la normatividad vigente | AA12: ='Director de DGP'!#REF! -> #REF! | AB12: ='Director de DGP'!#REF! -> #REF! | AC12: ='Director de DGP'!#REF! -> #REF! | AD12: ='Director de DGP'!#REF! -> #REF! | AE12: ='Director de DGP'!#REF! -> #REF! | AF12: ='Director de DGP'!#REF! -> #REF! | AG12: ='Director de DGP'!#REF! -> #REF! | AH12: ='Director de DGP'!C30 -> Licenciatura en Ingenieria Civil, Arquitectura o afín. | AI12: ='Director de DGP'!C31 -> 5 años | AJ12: ='Director de DGP'!D33 -> Normatividad laboral aplicable (Leyes, reglamentos, Municipales, Estatales y Federales) | AK12: ='Director de DGP'!C33 -> Avanzado | AL12: ='Director de DGP'!D35 -> Conocimiento de estrategias para el desarrollo de la ciudad. | AM12: ='Director de DGP'!C34 -> 0 | AN12: ='Director de DGP'!D36 -> Conocimientos de reglamentación, planeación y consulta ciudadana mediante programas, acciones para un ambiente sano de calidad de los ciudadanos. | AO12: ='Director de DGP'!C35 -> Avanzado | AP12: ='Director de DGP'!D37 -> 0 | AQ12: ='Director de DGP'!#REF! -> #REF! | AR12: ='Director de DGP'!#REF! -> #REF! | AS12: ='Director de DGP'!C36 -> Avanzado | AT12: ='Director de DGP'!#REF! -> #REF! | AU12: ='Director de DGP'!C37 -> 0 | AV12: ='Director de DGP'!#REF! -> #REF! | AW12: ='Director de DGP'!#REF! -> #REF! | AX12: ='Director de DGP'!#REF! -> #REF! | AY12: ='Director de DGP'!#REF! -> #REF! | AZ12: ='Director de DGP'!#REF! -> #REF! | BA12: ='Director de DGP'!#REF! -> #REF! | BB12: ='Director de DGP'!#REF! -> #REF! | BC12: ='Director de DGP'!#REF! -> #REF! | BD12: ='Director de DGP'!D39 -> Toma de decisiones | BE12: ='Director de DGP'!C39 -> Avanzado | BF12: ='Director de DGP'!D40 -> Capacidad de planificar y de organización | BG12: ='Director de DGP'!C40 -> Avanzado | BH12: ='Director de DGP'!D41 -> Liderazgo de grupos | BI12: ='Director de DGP'!C41 -> Avanzado | BJ12: ='Director de DGP'!D42 -> Control Administrativo | BK12: ='Director de DGP'!C42 -> Avanzado | BL12: ='Director de DGP'!D43 -> Planeación Funcional | BM12: ='Director de DGP'!C43 -> Avanzado | BN12: ='Director de DGP'!D44 -> Aplicación de las disposiciones normativas | BO12: ='Director de DGP'!C44 -> Avanzado | BP12: ='Director de DGP'!D45 -> Claridad de objetivos, planes y metas | BQ12: ='Director de DGP'!C45 -> Avanzado | BR12: ='Director de DGP'!D46 -> Dinamismo y respuesta rápida | BS12: ='Director de DGP'!C46 -> Avanzado | BT12: ='Director de DGP'!D47 -> Orientación a resultados | BU12: ='Director de DGP'!C47 -> Avanzado | BV12: ='Director de DGP'!D48 -> Organización | BW12: ='Director de DGP'!C48 -> Avanzado | BX12: ='Director de DGP'!D49 -> Autocontrol / Manejo de estrés | BY12: ='Director de DGP'!C49 -> Avanzado | BZ12: ='Director de DGP'!D50 -> Conocimiento normativo y jurídico | CA12: ='Director de DGP'!C50 -> Avanzado | CB12: ='Director de DGP'!D51 -> Consciencia organizativa | CC12: ='Director de DGP'!C51 -> Avanzado | CD12: ='Director de DGP'!D52 -> Construcción de relaciones | CE12: ='Director de DGP'!C52 -> Avanzado | CF12: ='Director de DGP'!D53 -> Persuación e influencia | CG12: ='Director de DGP'!C53 -> Avanzado | CH12: ='Director de DGP'!D54 -> Paquetes de Oficina (word, Excel y Power Point) | CI12: ='Director de DGP'!C54 -> Intermedio | CJ12: ='Director de DGP'!D55 -> Plataformas colaborativas (Slideshare, Google Drive, Icoud, Dropbox, DkyDrive, Teams) | CK12: ='Director de DGP'!C55 -> Intermedio | CL12: ='Director de DGP'!D56 -> AutoCad | CM12: ='Director de DGP'!C56 -> Avanzado
