Workbook

Sheet Formato
C1: SECRETARÍA DE ADMINISTRACIÓN DIRECCIÓN DE RECURSOS HUMANOS DESCRIPCIÓN Y PERFIL DE PUESTO
A3: Identificación:
A4: Puesto funcional: | C4: Peluquero(a) | F4: Fecha: | G4: 46234
A5: Puesto nominal: | C5: Peluquero
A6: Secretaría: | C6: Secretaría de Seguridad y Protección Ciudadana
A7: Dirección: | C7: Dirección Administrativa y Enlace de Municipal
A8: Área: | C8: Jefatura de Gimnasio
A9: Organización:
A10: Puesto al que le reporta: | C10: Jefe(a) de Gimnasio
A11: Puestos que le reportan: | C11: No Aplica
A12: Objetivo General del puesto: Representa la finalidad o razón sustantiva del puesto. Da cuenta del por qué ese puesto existe y cuál es el resultado o impacto que aporta para la consecución de la misión y objetivos institucionales.
A13: Mantener la imagen del personal de la Secretaría.
A14: Funciones y Responsabilidades Clave:
A15: 1 | B15: Cuidar la imagen y la pulcritud en la apariencia de los elementos
A16: 2 | B16: Hacer cortes de caballeros
A17: 3 | B17: Ajustar el vello facial
A19: Relación Institucional
A20: Con qué artículo(s) y fracción(es) del Reglamento de la Administración Pública Municipal está relacionado el puesto: | D20: Artículo 69, Fracción IV,V,VI,XII
A21: Con qué Pilar(es) y Objetivo(s) del Plan Municipal de Desarrollo se relaciona el puesto: | D21: XIX.- Pilar 6 Monterrey Confiable y Eficiente; Objetivo 27: Gestión Pública Eficiente y Transparente para el Bienestar Ciudadano, Objetivo 28: Transformar la gestión administrativa a través de la política de Mejora Regulatoria
A23: Perfil del Puesto:
A24: Especificación | C24: Características
A25: Escolaridad | C25: Bachillerato
A26: Experiencia | C26: 01 año
A27: Conocimientos: | C27: Nivel de Dominio
C28: Avanzado | D28: Estéticos
C29: No Aplica | D29: No Aplica
C30: No Aplica | D30: No Aplica
C31: No Aplica | D31: No Aplica
C32: No Aplica | D32: No Aplica
A33: Habilidades
A34: Directivas | C34: Intermedio | D34: Claridad en el trabajo
C35: Intermedio | D35: Comunicación Efectiva
C36: Intermedio | D36: Cooperación
A37: Administrativas | C37: No Aplica | D37: No Aplica
C38: No Aplica | D38: No Aplica
C39: No Aplica | D39: No Aplica
A40: Desempeño | C40: Avanzado | D40: Bienestar laboral
C41: Intermedio | D41: Espíritu de iniciativa
C42: Intermedio | D42: Dinamismo y respuesta rápida
A43: Cognitivas y de Eficacia Personal | C43: Intermedio | D43: Organización
...

Sheet BD
B2: NO MODIFICAR ESTA HOJA
B4: Formato
B5: DESCRIPCIÓN Y PERFIL DE PUESTO
BD8: Competencias y Habilidades
L9: Objetivos Particulares del puesto: | V9: Funciones y Responsabilidades Clave: | BD9: Directivas | BJ9: Administrativas | BP9: Desempeño | BV9: Cognitivas y de Eficacia Personal | CB9: Desarrollo de Personas | CH9: Tecnológicas
A10: No. | B10: Puesto funcional: | C10: Puesto nominal: | D10: Secretaría: | E10: Dirección: | F10: Área: | G10: Puesto al que le reporta: | H10: Puestos que le reportan: | I10: Objetivo General del puesto: | J10: Valor que aporta al puesto que reporta: | K10: Tipo de Puesto | L10: 1 | M10: % | N10: 2 | O10: % | P10: 3 | Q10: % | R10: 4 | S10: % | T10: 5 | U10: % | V10: 1 | W10: 2 | X10: 3 | Y10: 4 | Z10: 5 | AA10: 6 | AB10: 7 | AC10: 8 | AD10: 9 | AE10: 10 | AF10: 11 | AG10: 12 | AH10: Escolaridad | AI10: Experiencia | AJ10: 1 | AK10: N. Dominio | AL10: 2 | AM10: N. Dominio | AN10: 3 | AO10: N. Dominio | AP10: 4 | AQ10: N. Dominio | AR10: 5 | AS10: N. Dominio | AT10: 6 | AU10: N. Dominio | AV10: 7 | AW10: N. Dominio | AX10: 8 | AY10: N. Dominio | AZ10: 9 | BA10: N. Dominio | BB10: 10 | BC10: N. Dominio | BD10: 1 | BE10: N. Dominio | BF10: 2 | BG10: N. Dominio | BH10: 3 | BI10: N. Dominio | BJ10: 1 | BK10: N. Dominio | BL10: 2 | BM10: N. Dominio | BN10: 3 | BO10: N. Dominio | BP10: 1 | BQ10: N. Dominio | BR10: 2 | BS10: N. Dominio | BT10: 3 | BU10: N. Dominio | BV10: 1 | BW10: N. Dominio | BX10: 2 | BY10: N. Dominio | BZ10: 3 | CA10: N. Dominio | CB10: 1 | CC10: N. Dominio | CD10: 2 | CE10: N. Dominio | CF10: 3 | CG10: N. Dominio | CH10: 1 | CI10: N. Dominio | CJ10: 2 | CK10: N. Dominio | CL10: 3 | CM10: N. Dominio
B12: =Formato!C4 -> Peluquero(a) | C12: =Formato!C5 -> Peluquero | D12: =Formato!C6 -> Secretaría de Seguridad y Protección Ciudadana | E12: =Formato!C7 -> Dirección Administrativa y Enlace de Municipal | F12: =Formato!C8 -> Jefatura de Gimnasio | G12: =Formato!C10 -> Jefe(a) de Gimnasio | H12: =Formato!C11 -> No Aplica | I12: =Formato!A13 -> Mantener la imagen del personal de la Secretaría. | J12: =Formato!#REF! -> #REF! | K12: =Formato!#REF! -> #REF! | L12: =Formato!#REF! -> #REF! | M12: =Formato!#REF! -> #REF! | N12: =Formato!#REF! -> #REF! | O12: =Formato!#REF! -> #REF! | P12: =Formato!#REF! -> #REF! | Q12: =Formato!#REF! -> #REF! | ... U12: =Formato!#REF! -> #REF! | V12: =Formato!B15 -> Cuidar la imagen y la pulcritud en la apariencia de los elementos | W12: =Formato!B16 -> Hacer cortes de caballeros | X12: =Formato!B17 -> Ajustar el vello facial | Y12: =Formato!#REF! -> #REF! | Z12: =Formato!#REF! -> #REF! | AA12: =Formato!#REF! -> #REF! | AB12: =Formato!#REF! -> #REF! | AC12: =Formato!#REF! -> #REF! | AD12: =Formato!#REF! -> #REF! | AE12: =Formato!#REF! -> #REF! | AF12: =Formato!#REF! -> #REF! | AG12: =Formato!#REF! -> #REF! | AH12: =Formato!C25 -> Bachillerato | AI12: =Formato!C26 -> 01 año | AJ12: =Formato!D28 -> Estéticos | AK12: =Formato!C28 -> Avanzado | AL12: =Formato!D29 -> No Aplica | AM12: =Formato!C29 -> No Aplica | AN12: =Formato!D32 -> No Aplica | AO12: =Formato!C32 -> No Aplica | AP12: =Formato!#REF! -> #REF! | AQ12: =Formato!#REF! -> #REF! | AR12: =Formato!#REF! -> #REF! | AS12: =Formato!#REF! -> #REF! | AT12: =Formato!#REF! -> #REF! | AU12: =Formato!#REF! -> #REF! | AV12: =Formato!#REF! -> #REF! | AW12: =Formato!#REF! -> #REF! | ... BC12: =Formato!#REF! -> #REF! | BD12: =Formato!D34 -> Claridad en el trabajo | BE12: =Formato!C34 -> Intermedio | BF12: =Formato!D35 -> Comunicación Efectiva | BG12: =Formato!C35 -> Intermedio | BH12: =Formato!D36 -> Cooperación | BI12: =Formato!C36 -> Intermedio | BJ12: =Formato!D37 -> No Aplica | BK12: =Formato!C37 -> No Aplica | BL12: =Formato!D38 -> No Aplica | BM12: =Formato!C38 -> No Aplica | BN12: =Formato!D39 -> No Aplica | BO12: =Formato!C39 -> No Aplica | BP12: =Formato!D40 -> Bienestar laboral | BQ12: =Formato!C40 -> Avanzado | BR12: =Formato!D41 -> Espíritu de iniciativa | BS12: =Formato!C41 -> Intermedio | BT12: =Formato!D42 -> Dinamismo y respuesta rápida | BU12: =Formato!C42 -> Intermedio | BV12: =Formato!D43 -> Organización | BW12: =Formato!C43 -> Intermedio | BX12: =Formato!D44 -> Flexibilidad | BY12: =Formato!C44 -> Intermedio | BZ12: =Formato!D45 -> Autoaprendizaje | CA12: =Formato!C45 -> Intermedio | CB12: =Formato!D46 -> Capacidad de entender a los demás | CC12: =Formato!C46 -> Intermedio | CD12: =Formato!D48 -> No Aplica | CE12: =Formato!C48 -> No Aplica | CF12: =Formato!#REF! -> #REF! | CG12: =Formato!#REF! -> #REF! | CH12: =Formato!D49 -> No Aplica | CI12: =Formato!C49 -> No Aplica | CJ12: =Formato!#REF! -> #REF! | CK12: =Formato!#REF! -> #REF! | CL12: =Formato!#REF! -> #REF! | CM12: =Formato!#REF! -> #REF!

Sheet Catálogos
A1: Nivel de Dominio | C1: Valor que aporta al puesto que reporta | E1: Tipo de Puesto
A2: Básico | C2: Muy Alto | E2: Temporal
A3: Intermedio | C3: Alto | E3: Asimilado
A4: Avanzado | C4: Medio | E4: De carrera
A5: Experto | E5: De carrera y puesto clave
A6: No Aplica | E6: De libre designación
A8: Propuesta de CATALOGO DE COMPETENCIAS para incorporar en los perfiles
A10: Desempeño | C10: Directivas | E10: Administrativas | G10: Desarrollo de personas | I10: Cognitivas y de Eficacia Personal | K10: Tecnológicas
A11: Orientación a resultados | C11: Liderazgo de grupos | E11: Planeación Funcional | G11: Consciencia organizativa | I11: Pensamiento analítico | K11: Paquetes de Oficina (Word, Excel y Power Point)
A12: Claridad de objetivos, planes y metas | C12: Claridad en el trabajo | E12: Control Administrativo | G12: Construcción de relaciones | I12: Pensamiento conceptual | K12: Editores Web
A13: Orientación al ciudadano | C13: Trabajo en Equipo | E13: Aplicación de las disposiciones normativas | G13: Capacidad de entender a los demás | I13: Confianza en sí mismo | K13: Plataformas colaborativas (Slideshare, Google Drive, Icloud, Dropbox, SkyDrive, Teams)
A14: Bienestar laboral | C14: Cooperación | E14: Sensibilidad a los lineamientos | G14: Persuación e influencia | I14: Apertura al cambio | K14: No Aplica
A15: Atención al orden, calidad y perfección | C15: Comunicación Efectiva | E15: Administración de recursos humanos | G15: Formación permanente | I15: Autocontrol / Manejo de estrés
A16: Espíritu de iniciativa | C16: Capacidad de planificar y de organización | E16: No Aplica | G16: Motivación | I16: Flexibilidad
A17: Dinamismo y respuesta rápida | C17: Desarrollo de los otros | G17: No Aplica | I17: Organización
A18: No Aplica | C18: Actitudes de mando, asertividad | I18: Autoaprendizaje
C19: Negociación | I19: Redacción y ortografía
C20: Delegación de autoridad | I20: Conocimiento normativo y jurídico
C21: Pensamiento Estratégico | I21: No Aplica
C22: Toma de decisiones
C23: Seguimiento y evaluación de objetivos
C24: No Aplica
A30: Algunas definiciones de las Competencias y Habilidades
A31: Apertura al Cambio: Nivel de apertura para comprender, aceptar y manejar nuevas ideas o enfoques. Ajuste eficaz ante diferentes entornos.
A32: Aprendizaje: Capacidad para dominar nuevas tareas.
A33: Aptitud al Desarrollo de Otros: Tendencia a desarrollar las habilidades y aptitudes del personal a su cargo, mediante la planeación eficaz de actividades relacionadas con los puestos actuales y futuros. Búsqueda de oportunidades de crecimiento para su equipo de trabajo.
A34: Aptitud de Liderazgo: Capacidad para guiar a grupos e individuos hacia la obtención de objetivos organizacionales. Promueve la participación activa.
A35: Autoconfianza: Grado de seguridad en sí mismo y de sus capacidades, para la solución de conflictos ó tareas; reconociendo sus fortalezas y debilidades.
A36: Autodesarrollo: Interés por el aprendizaje y la actualización. Búsqueda de oportunidades de crecimiento personal y profesional.
A37: Capacidad Negociadora: Habilidad para llegar a acuerdos mediante el análisis de alternativas.
A38: Comunicación Efectiva: Capacidad de escuchar y transmitir ideas e información en forma clara para que sean comprendidas. Búsqueda del entendimiento mutuo.
A39: Control Administrativo: Habilidad para establecer procedimientos de monitoreo y regulación de procesos, tareas o actividades. Recopilación y revisión de información. Evaluar los resultados de tareas o proyectos.
A40: Delegación de Autoridad: Asignar líneas de autoridad o responsabilidad a colaboradores, sobre tareas y/o decisiones, dando seguimiento a lo encomendado.
A41: Dominio de Estrés: Habilidad para actuar con eficiencia en situaciones de presión u oposición. Manejo óptimo de cargas emocionales bajo estrés.
... A56: Trabajo en Equipo: Inclinación para participar o trabajar en grupos, ser parte de los mismos, contribuyendo al logro de metas.
